BEGIN:VCALENDAR
VERSION:2.0
PRODID: -//CMS 5.0 //NONSGML //DE
BEGIN:VEVENT
SUMMARY:Instrumententag für Kinder und Eltern
DESCRIPTION:<p>siehe gesonderte Einladung</p>\n
UID:358965@www.nak-ulm.de
LOCATION:Ulm-West
CATEGORIES:Kinder,Bezirk (und alle Gemeinden),Musik
X-ORGANIZER:
STATUS:CONFIRMED
CLASS:PUBLIC
DTSTART:20260328T090000Z
DTEND:20260328T120000Z
DTSTAMP:20260421T163317Z
CREATED:20260212T105008Z
LAST-MODIFIED:20260212T105131Z
END:VEVENT
BEGIN:VEVENT
SUMMARY:Gottesdienst für die Jugendlichen des Kirchenbezirks Ulm
DESCRIPTION:
UID:358966@www.nak-ulm.de
LOCATION:Blaustein
CATEGORIES:Jugend,Bezirk (und alle Gemeinden)
X-ORGANIZER:
STATUS:CONFIRMED
CLASS:PUBLIC
DTSTART:20260322T090000Z
DTEND:20260322T100000Z
DTSTAMP:20260421T163317Z
CREATED:20260212T105142Z
LAST-MODIFIED:20260212T105222Z
END:VEVENT
BEGIN:VEVENT
SUMMARY:Gottesdienst an Ostern mit Bezirksapostel Ehrich
DESCRIPTION:<p>Live-Übertragung nach Ulm-Ost</p>
UID:359825@www.nak-ulm.de
LOCATION:Kempten Süd
CATEGORIES:Ulm-Ost
X-ORGANIZER:
STATUS:CONFIRMED
CLASS:PUBLIC
DTSTART:20260405T080000Z
DTEND:20260405T093000Z
DTSTAMP:20260421T163317Z
CREATED:20260223T193246Z
LAST-MODIFIED:20260223T193246Z
END:VEVENT
BEGIN:VEVENT
SUMMARY:Gottesdienst an Karfreitag
DESCRIPTION:<p></p>
UID:359826@www.nak-ulm.de
LOCATION:Ulm-Ost
CATEGORIES:Ulm-Ost
X-ORGANIZER:
STATUS:CONFIRMED
CLASS:PUBLIC
DTSTART:20260403T073000Z
DTEND:20260403T083000Z
DTSTAMP:20260421T163317Z
CREATED:20260223T193241Z
LAST-MODIFIED:20260223T193241Z
END:VEVENT
BEGIN:VEVENT
SUMMARY:Gottesdienst mit Bezirksevangelist Hechler
DESCRIPTION:<p></p>
UID:359827@www.nak-ulm.de
LOCATION:Ulm-Ost
CATEGORIES:Ulm-Ost
X-ORGANIZER:
STATUS:CONFIRMED
CLASS:PUBLIC
DTSTART:20260329T073000Z
DTEND:20260329T083000Z
DTSTAMP:20260421T163317Z
CREATED:20260223T193159Z
LAST-MODIFIED:20260223T193159Z
END:VEVENT
BEGIN:VEVENT
SUMMARY:Gottesdienst
DESCRIPTION:<p></p>
UID:359828@www.nak-ulm.de
LOCATION:Ulm-Ost
CATEGORIES:Ulm-Ost
X-ORGANIZER:
STATUS:CONFIRMED
CLASS:PUBLIC
DTSTART:20260325T190000Z
DTEND:20260325T194500Z
DTSTAMP:20260421T163317Z
CREATED:20260223T193054Z
LAST-MODIFIED:20260223T193054Z
END:VEVENT
BEGIN:VEVENT
SUMMARY:Gottesdienst für Jugendliche
DESCRIPTION:<p></p>
UID:359829@www.nak-ulm.de
LOCATION:Blaustein
CATEGORIES:Ulm-Ost
X-ORGANIZER:
STATUS:CONFIRMED
CLASS:PUBLIC
DTSTART:20260322T090000Z
DTEND:20260322T100000Z
DTSTAMP:20260421T163317Z
CREATED:20260223T193014Z
LAST-MODIFIED:20260223T193014Z
END:VEVENT
BEGIN:VEVENT
SUMMARY:Gottesdienst mit Priester Hellig
DESCRIPTION:<p></p>
UID:359830@www.nak-ulm.de
LOCATION:Ulm-Ost
CATEGORIES:Ulm-Ost
X-ORGANIZER:
STATUS:CONFIRMED
CLASS:PUBLIC
DTSTART:20260322T083000Z
DTEND:20260322T093000Z
DTSTAMP:20260421T163317Z
CREATED:20260223T192939Z
LAST-MODIFIED:20260223T192939Z
END:VEVENT
BEGIN:VEVENT
SUMMARY:Eltern-Kind-Singen
DESCRIPTION:
UID:360991@www.nak-ulm.de
LOCATION:Ulm-West
CATEGORIES:Musik,Kinder,Bezirk (ohne Gemeinden)
X-ORGANIZER:
STATUS:CONFIRMED
CLASS:PUBLIC
DTSTART:20260408T080000Z
DTEND:20260408T090000Z
DTSTAMP:20260421T163317Z
CREATED:20260310T112250Z
LAST-MODIFIED:20260310T112318Z
END:VEVENT
BEGIN:VEVENT
SUMMARY:Gottesdienst an Karfreitag
DESCRIPTION:
UID:360992@www.nak-ulm.de
LOCATION:In allen Gemeinden des Kirchenbezirks
CATEGORIES:Bezirk (ohne Gemeinden)
X-ORGANIZER:
STATUS:CONFIRMED
CLASS:PUBLIC
DTSTART:20260403T073000Z
DTEND:20260403T073000Z
DTSTAMP:20260421T163317Z
CREATED:20260310T112341Z
LAST-MODIFIED:20260310T112458Z
END:VEVENT
BEGIN:VEVENT
SUMMARY:Gottesdienst zu Ostern mit Bezirksapostel Ehrich
DESCRIPTION:<p>Übertragungsgottesdienst zu Ostern mit Bezirksapostel Mi
 chael Ehrich aus Kempten-Süd.</p>\n
UID:360993@www.nak-ulm.de
LOCATION:Bild- u. Tonübertragung in den Gemeinden
CATEGORIES:Bezirk (ohne Gemeinden)
X-ORGANIZER:
STATUS:CONFIRMED
CLASS:PUBLIC
DTSTART:20260405T080000Z
DTEND:20260405T080000Z
DTSTAMP:20260421T163317Z
CREATED:20260310T112505Z
LAST-MODIFIED:20260310T113018Z
END:VEVENT
BEGIN:VEVENT
SUMMARY:„Pray and Play“ - ComeTogether der Jugend des Kirchenbezirks
  Ulm
DESCRIPTION:<p>Nähere Informationen siehe gesonderte Einladung.</p>\n
UID:360995@www.nak-ulm.de
LOCATION:Friedrichsau, Ulm
CATEGORIES:Bezirk (ohne Gemeinden),Jugend
X-ORGANIZER:
STATUS:CONFIRMED
CLASS:PUBLIC
DTSTART;VALUE=DATE:20260406
DTEND;VALUE=DATE:20260407
DTSTAMP:20260421T163317Z
CREATED:20260310T112757Z
LAST-MODIFIED:20260310T112927Z
END:VEVENT
BEGIN:VEVENT
SUMMARY:Gottesdienst mit Konfirmation durch Bezirksapostel Ehrich
DESCRIPTION:<p>Konfirmationsgottesdienst mit Bild-u. Tonübertragung in 
 den Kirchenbezirk Ulm. Eingeladen sind die Gemeinden Beimerstetten, Bib
 erach, Blaustein und Senden</p>\n
UID:360997@www.nak-ulm.de
LOCATION:Ulm-West
CATEGORIES:Bezirk (und alle Gemeinden),Jugend
X-ORGANIZER:
STATUS:CONFIRMED
CLASS:PUBLIC
DTSTART:20260412T073000Z
DTEND:20260412T073000Z
DTSTAMP:20260421T163317Z
CREATED:20260310T113029Z
LAST-MODIFIED:20260310T113233Z
END:VEVENT
BEGIN:VEVENT
SUMMARY:Gottesdienst für die Jugend des Kirchenbezirks Ulm
DESCRIPTION:
UID:361000@www.nak-ulm.de
LOCATION:Blaubeuren-Asch
CATEGORIES:Jugend,Bezirk (und alle Gemeinden)
X-ORGANIZER:
STATUS:CONFIRMED
CLASS:PUBLIC
DTSTART:20260426T073000Z
DTEND:20260426T073000Z
DTSTAMP:20260421T163317Z
CREATED:20260310T113347Z
LAST-MODIFIED:20260310T114114Z
END:VEVENT
BEGIN:VEVENT
SUMMARY:Benefizkonzert „UNWANDELBAR - bist du, o Herr“
DESCRIPTION:<p>Benefizkonzert&nbsp;mit dem Motto "UNWANDELBAR - bist du,
  o Herr" mit gemischtem Chor, Orgel &amp; Instrumentalensemble der Kirc
 hengemeinde Ulm-West.</p>\n\n<p>Um Spenden zugunsten von <a href="https
 ://schwer-okay.com/">"schwer okay - Trauerevents für junge Erwachsene"
 </a> wird gebeten.</p>\n
UID:361001@www.nak-ulm.de
LOCATION:Ulm-West
CATEGORIES:Bezirk (und alle Gemeinden),Musik
X-ORGANIZER:
STATUS:CONFIRMED
CLASS:PUBLIC
DTSTART:20260426T160000Z
DTEND:20260426T160000Z
DTSTAMP:20260421T163317Z
CREATED:20260310T113510Z
LAST-MODIFIED:20260310T114055Z
END:VEVENT
BEGIN:VEVENT
SUMMARY:Gottesdienst
DESCRIPTION:<p></p>
UID:361086@www.nak-ulm.de
LOCATION:Ulm-Ost
CATEGORIES:Ulm-Ost
X-ORGANIZER:
STATUS:CONFIRMED
CLASS:PUBLIC
DTSTART:20260506T180000Z
DTEND:20260506T184500Z
DTSTAMP:20260421T163317Z
CREATED:20260312T192004Z
LAST-MODIFIED:20260312T192004Z
END:VEVENT
BEGIN:VEVENT
SUMMARY:Gottesdienst
DESCRIPTION:<p></p>
UID:361087@www.nak-ulm.de
LOCATION:Ulm-Ost
CATEGORIES:Ulm-Ost
X-ORGANIZER:
STATUS:CONFIRMED
CLASS:PUBLIC
DTSTART:20260503T073000Z
DTEND:20260503T083000Z
DTSTAMP:20260421T163317Z
CREATED:20260312T191949Z
LAST-MODIFIED:20260312T191949Z
END:VEVENT
BEGIN:VEVENT
SUMMARY:Gottesdienst
DESCRIPTION:<p></p>
UID:361088@www.nak-ulm.de
LOCATION:Ulm-Ost
CATEGORIES:Ulm-Ost
X-ORGANIZER:
STATUS:CONFIRMED
CLASS:PUBLIC
DTSTART:20260429T180000Z
DTEND:20260429T184500Z
DTSTAMP:20260421T163317Z
CREATED:20260312T191941Z
LAST-MODIFIED:20260312T191941Z
END:VEVENT
BEGIN:VEVENT
SUMMARY:Benefizkonzert "UNWANDELBAR - bist du, o Herr"
DESCRIPTION:<p></p>
UID:361089@www.nak-ulm.de
LOCATION:Ulm-West
CATEGORIES:Ulm-Ost
X-ORGANIZER:
STATUS:CONFIRMED
CLASS:PUBLIC
DTSTART:20260426T160000Z
DTEND:20260426T170000Z
DTSTAMP:20260421T163317Z
CREATED:20260312T191922Z
LAST-MODIFIED:20260312T191922Z
END:VEVENT
BEGIN:VEVENT
SUMMARY:Gottesdienst
DESCRIPTION:<p></p>
UID:361090@www.nak-ulm.de
LOCATION:Ulm-Ost
CATEGORIES:Ulm-Ost
X-ORGANIZER:
STATUS:CONFIRMED
CLASS:PUBLIC
DTSTART:20260426T073000Z
DTEND:20260426T083000Z
DTSTAMP:20260421T163317Z
CREATED:20260312T191828Z
LAST-MODIFIED:20260312T191828Z
END:VEVENT
BEGIN:VEVENT
SUMMARY:Gottesdienst für Jugendliche
DESCRIPTION:<p></p>
UID:361091@www.nak-ulm.de
LOCATION:Asch
CATEGORIES:Ulm-Ost
X-ORGANIZER:
STATUS:CONFIRMED
CLASS:PUBLIC
DTSTART:20260426T073000Z
DTEND:20260426T083000Z
DTSTAMP:20260421T163317Z
CREATED:20260312T191854Z
LAST-MODIFIED:20260312T191854Z
END:VEVENT
BEGIN:VEVENT
SUMMARY:Jugendchorprobe
DESCRIPTION:<p></p>
UID:361092@www.nak-ulm.de
LOCATION:Blaubeuren
CATEGORIES:Ulm-Ost
X-ORGANIZER:
STATUS:CONFIRMED
CLASS:PUBLIC
DTSTART:20260424T173000Z
DTEND:20260424T183000Z
DTSTAMP:20260421T163317Z
CREATED:20260312T191805Z
LAST-MODIFIED:20260312T191805Z
END:VEVENT
BEGIN:VEVENT
SUMMARY:Gottesdienst
DESCRIPTION:<p></p>
UID:361093@www.nak-ulm.de
LOCATION:Ulm-Ost
CATEGORIES:Ulm-Ost
X-ORGANIZER:
STATUS:CONFIRMED
CLASS:PUBLIC
DTSTART:20260422T180000Z
DTEND:20260422T184500Z
DTSTAMP:20260421T163317Z
CREATED:20260312T191723Z
LAST-MODIFIED:20260312T191723Z
END:VEVENT
BEGIN:VEVENT
SUMMARY:Trauergesprächskreis
DESCRIPTION:<p>Bitte nur mit telefonischer Anmeldung bei Ev.i.R. Wilfrie
 d Manz Tel. 0151/50984166 oder Bruder Volker Schulte-Derne Tel. 0172 / 
 6008593</p>
UID:361094@www.nak-ulm.de
LOCATION:Ulm-Ost
CATEGORIES:Ulm-Ost
X-ORGANIZER:
STATUS:CONFIRMED
CLASS:PUBLIC
DTSTART:20260420T153000Z
DTEND:20260420T173000Z
DTSTAMP:20260421T163317Z
CREATED:20260312T191642Z
LAST-MODIFIED:20260312T191642Z
END:VEVENT
BEGIN:VEVENT
SUMMARY:Gottesdienst mit Konfirmation mit Bezirksältestem Bolz
DESCRIPTION:<p></p>
UID:361095@www.nak-ulm.de
LOCATION:Ulm-Ost
CATEGORIES:Ulm-Ost
X-ORGANIZER:
STATUS:CONFIRMED
CLASS:PUBLIC
DTSTART:20260419T073000Z
DTEND:20260419T083000Z
DTSTAMP:20260421T163317Z
CREATED:20260312T191602Z
LAST-MODIFIED:20260312T191602Z
END:VEVENT
BEGIN:VEVENT
SUMMARY:Gottesdienst
DESCRIPTION:<p></p>
UID:361096@www.nak-ulm.de
LOCATION:Ulm-Ost
CATEGORIES:Ulm-Ost
X-ORGANIZER:
STATUS:CONFIRMED
CLASS:PUBLIC
DTSTART:20260415T180000Z
DTEND:20260415T184500Z
DTSTAMP:20260421T163317Z
CREATED:20260312T191535Z
LAST-MODIFIED:20260312T191535Z
END:VEVENT
BEGIN:VEVENT
SUMMARY:Gottesdienst mit Konfirmation mit Bezirksapostel Ehrich
DESCRIPTION:<p>Live-Übertragung nach Ulm-Ost</p>
UID:361097@www.nak-ulm.de
LOCATION:Ulm-West
CATEGORIES:Ulm-Ost
X-ORGANIZER:
STATUS:CONFIRMED
CLASS:PUBLIC
DTSTART:20260412T073000Z
DTEND:20260412T090000Z
DTSTAMP:20260421T163317Z
CREATED:20260312T191448Z
LAST-MODIFIED:20260312T191448Z
END:VEVENT
BEGIN:VEVENT
SUMMARY:Gottesdienst
DESCRIPTION:<p></p>
UID:361098@www.nak-ulm.de
LOCATION:Ulm-Ost
CATEGORIES:Ulm-Ost
X-ORGANIZER:
STATUS:CONFIRMED
CLASS:PUBLIC
DTSTART:20260408T180000Z
DTEND:20260408T184500Z
DTSTAMP:20260421T163317Z
CREATED:20260312T191411Z
LAST-MODIFIED:20260312T191411Z
END:VEVENT
BEGIN:VEVENT
SUMMARY:Eltern-Kind-Singen
DESCRIPTION:<p></p>
UID:361099@www.nak-ulm.de
LOCATION:Ulm-West
CATEGORIES:Ulm-Ost
X-ORGANIZER:
STATUS:CONFIRMED
CLASS:PUBLIC
DTSTART:20260408T080000Z
DTEND:20260408T090000Z
DTSTAMP:20260421T163317Z
CREATED:20260312T191402Z
LAST-MODIFIED:20260312T191402Z
END:VEVENT
BEGIN:VEVENT
SUMMARY:Jugendfreizeitwochenende
DESCRIPTION:<p>siehe gesonderte Einladung</p>\n
UID:363271@www.nak-ulm.de
LOCATION:Freiburg
CATEGORIES:Bezirk (ohne Gemeinden),Jugend
X-ORGANIZER:
STATUS:CONFIRMED
CLASS:PUBLIC
DTSTART;VALUE=DATE:20260501
DTEND;VALUE=DATE:20260502
DTSTAMP:20260421T163317Z
CREATED:20260409T103853Z
LAST-MODIFIED:20260409T104521Z
END:VEVENT
BEGIN:VEVENT
SUMMARY:Eltern-Kind-Singen
DESCRIPTION:
UID:363272@www.nak-ulm.de
LOCATION:Ulm-West
CATEGORIES:Bezirk (ohne Gemeinden),Kinder,Musik
X-ORGANIZER:
STATUS:CONFIRMED
CLASS:PUBLIC
DTSTART:20260506T080000Z
DTEND:20260506T090000Z
DTSTAMP:20260421T163317Z
CREATED:20260409T104016Z
LAST-MODIFIED:20260409T104039Z
END:VEVENT
BEGIN:VEVENT
SUMMARY:Gottesdienst zu Christ Himmelfahrt
DESCRIPTION:
UID:363273@www.nak-ulm.de
LOCATION:In allen Gemeinden des Kirchenbezirks
CATEGORIES:Bezirk (ohne Gemeinden)
X-ORGANIZER:
STATUS:CONFIRMED
CLASS:PUBLIC
DTSTART:20260514T073000Z
DTEND:20260514T073000Z
DTSTAMP:20260421T163317Z
CREATED:20260409T104053Z
LAST-MODIFIED:20260409T104442Z
END:VEVENT
BEGIN:VEVENT
SUMMARY:Gottesdienst zu Pfingsten mit dem Stammapostel
DESCRIPTION:<p>Gottesdienst zu Pfingsten aus Tafelsig (Südafrika)</p>\n
UID:363274@www.nak-ulm.de
LOCATION:Bild- und Tonübertragung in den Gemeinden des Kirchenbezirks
CATEGORIES:Bezirk (ohne Gemeinden)
X-ORGANIZER:
STATUS:CONFIRMED
CLASS:PUBLIC
DTSTART:20260524T080000Z
DTEND:20260524T080000Z
DTSTAMP:20260421T163317Z
CREATED:20260409T104205Z
LAST-MODIFIED:20260409T104501Z
END:VEVENT
BEGIN:VEVENT
SUMMARY:Ökumenischer Open-Air Gottesdienst am Pfingstmontag
DESCRIPTION:<p>Kirchen aller Konfessionen feiern Pfingsten gemeinsam mit
  einem Open-air Gottesdienst am 25.05.2026 um 10.00 Uhr im Glacis Park 
 Neu-Ulm.</p>\n\n<p>Bei schlechtem Wetter wird der Gottesdienst in der&n
 bsp;Petruskirche gefeiert.</p>\n
UID:363364@www.nak-ulm.de
LOCATION:Glacis-Park, Neu-Ulm
CATEGORIES:Bezirk (und alle Gemeinden),Gottesdienst
X-ORGANIZER:
STATUS:CONFIRMED
CLASS:PUBLIC
DTSTART:20260525T080000Z
DTEND:20260525T080000Z
DTSTAMP:20260421T163317Z
CREATED:20260411T120554Z
LAST-MODIFIED:20260411T121022Z
END:VEVENT
BEGIN:VEVENT
SUMMARY:Gottesdienst
DESCRIPTION:<p></p>
UID:363447@www.nak-ulm.de
LOCATION:Ulm-Ost
CATEGORIES:Ulm-Ost
X-ORGANIZER:
STATUS:CONFIRMED
CLASS:PUBLIC
DTSTART:20260607T073000Z
DTEND:20260607T083000Z
DTSTAMP:20260421T163317Z
CREATED:20260412T133250Z
LAST-MODIFIED:20260412T133250Z
END:VEVENT
BEGIN:VEVENT
SUMMARY:Gottesdienst
DESCRIPTION:<p></p>
UID:363448@www.nak-ulm.de
LOCATION:Ulm-Ost
CATEGORIES:Ulm-Ost
X-ORGANIZER:
STATUS:CONFIRMED
CLASS:PUBLIC
DTSTART:20260603T180000Z
DTEND:20260603T184500Z
DTSTAMP:20260421T163317Z
CREATED:20260412T133241Z
LAST-MODIFIED:20260412T133241Z
END:VEVENT
BEGIN:VEVENT
SUMMARY:Gottesdienst
DESCRIPTION:<p></p>
UID:363449@www.nak-ulm.de
LOCATION:Ulm-Ost
CATEGORIES:Ulm-Ost
X-ORGANIZER:
STATUS:CONFIRMED
CLASS:PUBLIC
DTSTART:20260531T073000Z
DTEND:20260531T083000Z
DTSTAMP:20260421T163317Z
CREATED:20260412T133231Z
LAST-MODIFIED:20260412T133231Z
END:VEVENT
BEGIN:VEVENT
SUMMARY:Gottesdienst
DESCRIPTION:<p></p>
UID:363450@www.nak-ulm.de
LOCATION:Ulm-Ost
CATEGORIES:Ulm-Ost
X-ORGANIZER:
STATUS:CONFIRMED
CLASS:PUBLIC
DTSTART:20260527T180000Z
DTEND:20260527T184500Z
DTSTAMP:20260421T163317Z
CREATED:20260412T133222Z
LAST-MODIFIED:20260412T133222Z
END:VEVENT
BEGIN:VEVENT
SUMMARY:Gottesdienst an Pfingsten mit Stammapostel Schneider
DESCRIPTION:<p>Live-Übertragung nach Ulm-Ost</p>
UID:363451@www.nak-ulm.de
LOCATION:Tafelsig/Südafrika
CATEGORIES:Ulm-Ost
X-ORGANIZER:
STATUS:CONFIRMED
CLASS:PUBLIC
DTSTART:20260524T080000Z
DTEND:20260524T093000Z
DTSTAMP:20260421T163317Z
CREATED:20260412T133202Z
LAST-MODIFIED:20260412T133202Z
END:VEVENT
BEGIN:VEVENT
SUMMARY:Gottesdienst
DESCRIPTION:<p></p>
UID:363452@www.nak-ulm.de
LOCATION:Ulm-Ost
CATEGORIES:Ulm-Ost
X-ORGANIZER:
STATUS:CONFIRMED
CLASS:PUBLIC
DTSTART:20260520T180000Z
DTEND:20260520T184500Z
DTSTAMP:20260421T163317Z
CREATED:20260412T133152Z
LAST-MODIFIED:20260412T133152Z
END:VEVENT
BEGIN:VEVENT
SUMMARY:Gottesdienst
DESCRIPTION:<p></p>
UID:363453@www.nak-ulm.de
LOCATION:Ulm-Ost
CATEGORIES:Ulm-Ost
X-ORGANIZER:
STATUS:CONFIRMED
CLASS:PUBLIC
DTSTART:20260517T073000Z
DTEND:20260517T083000Z
DTSTAMP:20260421T163317Z
CREATED:20260412T133134Z
LAST-MODIFIED:20260412T133134Z
END:VEVENT
BEGIN:VEVENT
SUMMARY:Gottesdienst an Christi Himmelfahrt
DESCRIPTION:<p></p>
UID:363454@www.nak-ulm.de
LOCATION:Ulm-Ost
CATEGORIES:Ulm-Ost
X-ORGANIZER:
STATUS:CONFIRMED
CLASS:PUBLIC
DTSTART:20260514T073000Z
DTEND:20260514T083000Z
DTSTAMP:20260421T163317Z
CREATED:20260412T133119Z
LAST-MODIFIED:20260412T133119Z
END:VEVENT
BEGIN:VEVENT
SUMMARY:Trauergesprächskreis
DESCRIPTION:<p>Bitte nur mit telefonischer Anmeldung: Ev.i.R. Wilfried M
 anz Tel. 0151/50984166 oder Bruder Volker Schulte-Derne Tel. 0172 / 600
 8593</p>
UID:363455@www.nak-ulm.de
LOCATION:Ulm-Ost
CATEGORIES:Ulm-Ost
X-ORGANIZER:
STATUS:CONFIRMED
CLASS:PUBLIC
DTSTART:20260511T153000Z
DTEND:20260511T173000Z
DTSTAMP:20260421T163317Z
CREATED:20260412T132958Z
LAST-MODIFIED:20260412T132958Z
END:VEVENT
BEGIN:VEVENT
SUMMARY:Gottesdienst mit Bezirksältestem Bolz
DESCRIPTION:<p></p>
UID:363456@www.nak-ulm.de
LOCATION:Ulm-Ost
CATEGORIES:Ulm-Ost
X-ORGANIZER:
STATUS:CONFIRMED
CLASS:PUBLIC
DTSTART:20260510T073000Z
DTEND:20260510T083000Z
DTSTAMP:20260421T163317Z
CREATED:20260412T132921Z
LAST-MODIFIED:20260412T132921Z
END:VEVENT
BEGIN:VEVENT
SUMMARY:Jugendchorprobe
DESCRIPTION:<p></p>
UID:363457@www.nak-ulm.de
LOCATION:Ulm-West
CATEGORIES:Ulm-Ost
X-ORGANIZER:
STATUS:CONFIRMED
CLASS:PUBLIC
DTSTART:20260508T173000Z
DTEND:20260508T183000Z
DTSTAMP:20260421T163317Z
CREATED:20260412T132850Z
LAST-MODIFIED:20260412T132850Z
END:VEVENT
BEGIN:VEVENT
SUMMARY:Eltern-Kind-Singen
DESCRIPTION:<p></p>
UID:363458@www.nak-ulm.de
LOCATION:Ulm-West
CATEGORIES:Ulm-Ost
X-ORGANIZER:
STATUS:CONFIRMED
CLASS:PUBLIC
DTSTART:20260506T080000Z
DTEND:20260506T090000Z
DTSTAMP:20260421T163317Z
CREATED:20260412T132819Z
LAST-MODIFIED:20260412T132819Z
END:VEVENT
END:VCALENDAR
